BEGIN:VCALENDAR
VERSION:2.0
CALSCALE:GREGORIAN
PRODID:-//Diputació de Barcelona//DibaCMS//EN
BEGIN:VEVENT
UID:13314
DTSTAMP:20260422T161337
DTSTART:20231028T000000
DTEND:20231203T000000
SUMMARY:Festa Anyal
LOCATION:c. de l'Aliança, 17 08186 Lliçà d'Amunt
METHOD:PUBLISH
X-WR-CALNAME:ajuntament@llicamunt.cat
X-WR-TIMEZONE:Europe/Madrid
DESCRIPTION:
URI:https://www.llicamunt.cat/actualitat/agenda/13314-festa-anyal.html
CLASS:PUBLIC
END:VEVENT
END:VCALENDAR
