BEGIN:VCALENDAR
VERSION:2.0
CALSCALE:GREGORIAN
PRODID:-//Diputació de Barcelona//DibaCMS//EN
BEGIN:VEVENT
UID:13315
DTSTAMP:20260423T002431
DTSTART:20231129T170000
DTEND:20231129T183000
SUMMARY:Taller infantil: "Fem un arbre de Nadal"
LOCATION:c. del Segre, 65 (Palaudàries) 08186   Lliçà d'Amunt
METHOD:PUBLISH
X-WR-CALNAME:ajuntament@llicamunt.cat
X-WR-TIMEZONE:Europe/Madrid
DESCRIPTION:
URI:https://www.llicamunt.cat/actualitat/agenda/taller-infantil-fem-un-arbre-de-nadal.html
CLASS:PUBLIC
END:VEVENT
END:VCALENDAR
