BEGIN:VCALENDAR
VERSION:2.0
CALSCALE:GREGORIAN
PRODID:-//Diputació de Barcelona//DibaCMS//EN
BEGIN:VEVENT
UID:13316
DTSTAMP:20260422T185017
DTSTART:20231129T170000
DTEND:20231129T183000
SUMMARY:Taller infantil: "Fem una felicitació de Nadal"
LOCATION:Carrer de la Ribera d'Ebre, 81, planta baja 08186   Lliçà d'Amunt
METHOD:PUBLISH
X-WR-CALNAME:ajuntament@llicamunt.cat
X-WR-TIMEZONE:Europe/Madrid
DESCRIPTION:
URI:https://www.llicamunt.cat/actualitat/agenda/taller-infantil-fem-una-felicitacio-de-nadal.html
CLASS:PUBLIC
END:VEVENT
END:VCALENDAR
