BEGIN:VCALENDAR
VERSION:2.0
CALSCALE:GREGORIAN
PRODID:-//Diputació de Barcelona//DibaCMS//EN
BEGIN:VEVENT
UID:13317
DTSTAMP:20260422T201301
DTSTART:20231122T190000
DTEND:20231122T203000
SUMMARY:El Club del Llibre amb Marta Orriols
LOCATION:c. de l'Aliança, 17 08186 Lliçà d'Amunt
METHOD:PUBLISH
X-WR-CALNAME:ajuntament@llicamunt.cat
X-WR-TIMEZONE:Europe/Madrid
DESCRIPTION:
URI:https://www.llicamunt.cat/actualitat/agenda/el-club-del-llibre-amb-marta-orriols.html
CLASS:PUBLIC
END:VEVENT
END:VCALENDAR
