BEGIN:VCALENDAR
VERSION:2.0
CALSCALE:GREGORIAN
PRODID:-//Diputació de Barcelona//DibaCMS//EN
BEGIN:VEVENT
UID:13326
DTSTAMP:20260423T053842
DTSTART:20231202T213000
DTEND:20231202T235900
SUMMARY:Un jamón para la mejor
LOCATION:c. de l'Aliança, 17 08186 Lliçà d'Amunt
METHOD:PUBLISH
X-WR-CALNAME:ajuntament@llicamunt.cat
X-WR-TIMEZONE:Europe/Madrid
DESCRIPTION:
URI:https://www.llicamunt.cat/actualitat/agenda/un-jamon-para-la-mejor.html
CLASS:PUBLIC
END:VEVENT
END:VCALENDAR
