BEGIN:VCALENDAR
VERSION:2.0
CALSCALE:GREGORIAN
PRODID:-//Diputació de Barcelona//DibaCMS//EN
BEGIN:VEVENT
UID:13327
DTSTAMP:20260423T042335
DTSTART:20231204T163000
DTEND:20231204T200000
SUMMARY:Xerrada + degustació: idees per fer un menú de Nadal
LOCATION:Carnisseria Tarabal (c. Anselm Clavé, 68) 
METHOD:PUBLISH
X-WR-CALNAME:ajuntament@llicamunt.cat
X-WR-TIMEZONE:Europe/Madrid
DESCRIPTION:
URI:https://www.llicamunt.cat/actualitat/agenda/xerrada--degustacio-idees-per-fer-un-menu-de-nadal.html
CLASS:PUBLIC
END:VEVENT
END:VCALENDAR
