BEGIN:VCALENDAR
VERSION:2.0
CALSCALE:GREGORIAN
PRODID:-//Diputació de Barcelona//DibaCMS//EN
BEGIN:VEVENT
UID:13331
DTSTAMP:20260423T054055
DTSTART:20231214T170000
DTEND:20231214T200000
SUMMARY:Taller "Decorem galetes de Nadal" 
LOCATION:Establiment Sensaciones Pasteleras (c. Garrotxa, 35) 
METHOD:PUBLISH
X-WR-CALNAME:ajuntament@llicamunt.cat
X-WR-TIMEZONE:Europe/Madrid
DESCRIPTION:
URI:https://www.llicamunt.cat/actualitat/agenda/taller-decorem-galetes-de-nadal-.html
CLASS:PUBLIC
END:VEVENT
END:VCALENDAR
