BEGIN:VCALENDAR
VERSION:2.0
CALSCALE:GREGORIAN
PRODID:-//Diputació de Barcelona//DibaCMS//EN
BEGIN:VEVENT
UID:13332
DTSTAMP:20260422T225711
DTSTART:20231214T170000
DTEND:20231214T200000
SUMMARY:Taller "Descobreix la màgia del Nadal"
LOCATION:c. de Castelló de la Plana, 11 08186   Lliçà d'Amunt
METHOD:PUBLISH
X-WR-CALNAME:ajuntament@llicamunt.cat
X-WR-TIMEZONE:Europe/Madrid
DESCRIPTION:
URI:https://www.llicamunt.cat/actualitat/agenda/taller-descobreix-la-magia-del-nadal.html
CLASS:PUBLIC
END:VEVENT
END:VCALENDAR
