BEGIN:VCALENDAR
VERSION:2.0
CALSCALE:GREGORIAN
PRODID:-//Diputació de Barcelona//DibaCMS//EN
BEGIN:VEVENT
UID:13333
DTSTAMP:20260423T071010
DTSTART:20231215T170000
DTEND:20231215T200000
SUMMARY:"Christmas tales"
LOCATION:Escola d’Anglès (c. Rafael de Casanova, 17) 
METHOD:PUBLISH
X-WR-CALNAME:ajuntament@llicamunt.cat
X-WR-TIMEZONE:Europe/Madrid
DESCRIPTION:
URI:https://www.llicamunt.cat/actualitat/agenda/christmas-tales.html
CLASS:PUBLIC
END:VEVENT
END:VCALENDAR
