BEGIN:VCALENDAR
VERSION:2.0
CALSCALE:GREGORIAN
PRODID:-//Diputació de Barcelona//DibaCMS//EN
BEGIN:VEVENT
UID:13334
DTSTAMP:20260423T070740
DTSTART:20231216T100000
DTEND:20231216T130000
SUMMARY:Taller d'espelma nadalenca
LOCATION:c. de l'Aliança, 17 08186 Lliçà d'Amunt
METHOD:PUBLISH
X-WR-CALNAME:ajuntament@llicamunt.cat
X-WR-TIMEZONE:Europe/Madrid
DESCRIPTION:
URI:https://www.llicamunt.cat/actualitat/agenda/taller-despelma-nadalenca.html
CLASS:PUBLIC
END:VEVENT
END:VCALENDAR
