BEGIN:VCALENDAR
VERSION:2.0
CALSCALE:GREGORIAN
PRODID:-//Diputació de Barcelona//DibaCMS//EN
BEGIN:VEVENT
UID:13335
DTSTAMP:20260422T213259
DTSTART:20231216T100000
DTEND:20231216T120000
SUMMARY:Taller de ioga i meditació amb bols tibetans
LOCATION:c. de Castelló de la Plana, 11 08186   Lliçà d'Amunt
METHOD:PUBLISH
X-WR-CALNAME:ajuntament@llicamunt.cat
X-WR-TIMEZONE:Europe/Madrid
DESCRIPTION:
URI:https://www.llicamunt.cat/actualitat/agenda/taller-de-ioga-i-meditacio-amb-bols-tibetans.html
CLASS:PUBLIC
END:VEVENT
END:VCALENDAR
