BEGIN:VCALENDAR
VERSION:2.0
CALSCALE:GREGORIAN
PRODID:-//Diputació de Barcelona//DibaCMS//EN
BEGIN:VEVENT
UID:13337
DTSTAMP:20260422T201237
DTSTART:20231216T180000
DTEND:20231217T200000
SUMMARY:"Les Pastores d'Amunt i Palaudàries"
LOCATION:c. de l'Aliança, 17 08186 Lliçà d'Amunt
METHOD:PUBLISH
X-WR-CALNAME:ajuntament@llicamunt.cat
X-WR-TIMEZONE:Europe/Madrid
DESCRIPTION:
URI:https://www.llicamunt.cat/actualitat/agenda/13337-les-pastores-damunt-i-palaudaries.html
CLASS:PUBLIC
END:VEVENT
END:VCALENDAR
