BEGIN:VCALENDAR
VERSION:2.0
CALSCALE:GREGORIAN
PRODID:-//Diputació de Barcelona//DibaCMS//EN
BEGIN:VEVENT
UID:13339
DTSTAMP:20260423T054628
DTSTART:20231218T173000
DTEND:20231218T200000
SUMMARY:Taller familiar d'origami: figures de Nadal
LOCATION:c. de Castelló de la Plana, 11 08186   Lliçà d'Amunt
METHOD:PUBLISH
X-WR-CALNAME:ajuntament@llicamunt.cat
X-WR-TIMEZONE:Europe/Madrid
DESCRIPTION:
URI:https://www.llicamunt.cat/actualitat/agenda/taller-familiar-dorigami-figures-de-nadal.html
CLASS:PUBLIC
END:VEVENT
END:VCALENDAR
