BEGIN:VCALENDAR
VERSION:2.0
CALSCALE:GREGORIAN
PRODID:-//Diputació de Barcelona//DibaCMS//EN
BEGIN:VEVENT
UID:13340
DTSTAMP:20260423T081414
DTSTART:20231220T170000
DTEND:20231220T200000
SUMMARY:Per Nadal, vine a donar sang!
LOCATION:c. del Segre, 65 (Palaudàries) 08186   Lliçà d'Amunt
METHOD:PUBLISH
X-WR-CALNAME:ajuntament@llicamunt.cat
X-WR-TIMEZONE:Europe/Madrid
DESCRIPTION:
URI:https://www.llicamunt.cat/actualitat/agenda/13340-per-nadal-vine-a-donar-sang.html
CLASS:PUBLIC
END:VEVENT
END:VCALENDAR
