BEGIN:VCALENDAR
VERSION:2.0
CALSCALE:GREGORIAN
PRODID:-//Diputació de Barcelona//DibaCMS//EN
BEGIN:VEVENT
UID:13341
DTSTAMP:20260423T002401
DTSTART:20231223T110000
DTEND:20231223T200000
SUMMARY:El Tió més gran i divertit del món
LOCATION:Plaça de Julià Martí i Pou 
METHOD:PUBLISH
X-WR-CALNAME:ajuntament@llicamunt.cat
X-WR-TIMEZONE:Europe/Madrid
DESCRIPTION:
URI:https://www.llicamunt.cat/actualitat/agenda/13341-el-tio-mes-gran-i-divertit-del-mon.html
CLASS:PUBLIC
END:VEVENT
END:VCALENDAR
