BEGIN:VCALENDAR
VERSION:2.0
CALSCALE:GREGORIAN
PRODID:-//Diputació de Barcelona//DibaCMS//EN
BEGIN:VEVENT
UID:13342
DTSTAMP:20260423T100759
DTSTART:20231223T210000
DTEND:20231223T235900
SUMMARY:Lliksound Trap de la Vall del Tenes
LOCATION:c. de l'Aliança, 17 08186 Lliçà d'Amunt
METHOD:PUBLISH
X-WR-CALNAME:ajuntament@llicamunt.cat
X-WR-TIMEZONE:Europe/Madrid
DESCRIPTION:
URI:https://www.llicamunt.cat/actualitat/agenda/lliksound-trap-de-la-vall-del-tenes.html
CLASS:PUBLIC
END:VEVENT
END:VCALENDAR
