BEGIN:VCALENDAR
VERSION:2.0
CALSCALE:GREGORIAN
PRODID:-//Diputació de Barcelona//DibaCMS//EN
BEGIN:VEVENT
UID:13353
DTSTAMP:20260423T030604
DTSTART:20231203T110000
DTEND:20231203T170000
SUMMARY:"Dia de la capacitat"
LOCATION:C. Can Roure, 12 
METHOD:PUBLISH
X-WR-CALNAME:ajuntament@llicamunt.cat
X-WR-TIMEZONE:Europe/Madrid
DESCRIPTION:
URI:https://www.llicamunt.cat/actualitat/agenda/dia-de-la-capacitat.html
CLASS:PUBLIC
END:VEVENT
END:VCALENDAR
