BEGIN:VCALENDAR
VERSION:2.0
CALSCALE:GREGORIAN
PRODID:-//Diputació de Barcelona//DibaCMS//EN
BEGIN:VEVENT
UID:13360
DTSTAMP:20260422T201450
DTSTART:20231212T100000
DTEND:20231212T123000
SUMMARY:Formació SEOVT: Gestió financera del treball autònom
LOCATION:En línia 
METHOD:PUBLISH
X-WR-CALNAME:ajuntament@llicamunt.cat
X-WR-TIMEZONE:Europe/Madrid
DESCRIPTION:
URI:https://www.llicamunt.cat/actualitat/agenda/formacio-seovt-gestio-financera-del-treball-autonom.html
CLASS:PUBLIC
END:VEVENT
END:VCALENDAR
