BEGIN:VCALENDAR
VERSION:2.0
CALSCALE:GREGORIAN
PRODID:-//Diputació de Barcelona//DibaCMS//EN
BEGIN:VEVENT
UID:13376
DTSTAMP:20260422T225635
DTSTART:20231221T190000
DTEND:20231221T210000
SUMMARY:Sessió extraordinària del Ple Municipal 
LOCATION:c. de Folch i Torres, 102 08186   Lliçà d'Amunt
METHOD:PUBLISH
X-WR-CALNAME:ajuntament@llicamunt.cat
X-WR-TIMEZONE:Europe/Madrid
DESCRIPTION:
URI:https://www.llicamunt.cat/actualitat/agenda/13376-sessio-extraordinaria-del-ple-municipal-.html
CLASS:PUBLIC
END:VEVENT
END:VCALENDAR
