BEGIN:VCALENDAR
VERSION:2.0
CALSCALE:GREGORIAN
PRODID:-//Diputació de Barcelona//DibaCMS//EN
BEGIN:VEVENT
UID:13399
DTSTAMP:20260423T112608
DTSTART:20240224T054500
DTEND:20240224T190000
SUMMARY:VI Esquiada jove - ANUL·LADA!
LOCATION:c. de Castelló de la Plana, 11 08186   Lliçà d'Amunt
METHOD:PUBLISH
X-WR-CALNAME:ajuntament@llicamunt.cat
X-WR-TIMEZONE:Europe/Madrid
DESCRIPTION:L'actual condició meteorològica obliga a suspendre la VI Esquiada Jove

URI:https://www.llicamunt.cat/actualitat/agenda/vi-esquiada-jove-anullada.html
CLASS:PUBLIC
END:VEVENT
END:VCALENDAR
