BEGIN:VCALENDAR
VERSION:2.0
CALSCALE:GREGORIAN
PRODID:-//Diputació de Barcelona//DibaCMS//EN
BEGIN:VEVENT
UID:13402
DTSTAMP:20260423T030442
DTSTART:20240119T190000
DTEND:20240119T203000
SUMMARY:Xerrada: Canvi climàtic i agricultura al Vallès Oriental
LOCATION:c. de l'Aliança, 17 08186 Lliçà d'Amunt
METHOD:PUBLISH
X-WR-CALNAME:ajuntament@llicamunt.cat
X-WR-TIMEZONE:Europe/Madrid
DESCRIPTION:
URI:https://www.llicamunt.cat/actualitat/agenda/xerrada-canvi-climatic-i-agricultura-al-valles-oriental.html
CLASS:PUBLIC
END:VEVENT
END:VCALENDAR
