BEGIN:VCALENDAR
VERSION:2.0
CALSCALE:GREGORIAN
PRODID:-//Diputació de Barcelona//DibaCMS//EN
BEGIN:VEVENT
UID:13404
DTSTAMP:20260423T002331
DTSTART:20240121T120000
DTEND:20240121T133000
SUMMARY:Espectacle familiar "El professor bromera"
LOCATION:c. de l'Aliança, 17 08186 Lliçà d'Amunt
METHOD:PUBLISH
X-WR-CALNAME:ajuntament@llicamunt.cat
X-WR-TIMEZONE:Europe/Madrid
DESCRIPTION:
URI:https://www.llicamunt.cat/actualitat/agenda/espectacle-familiar-el-professor-bromera.html
CLASS:PUBLIC
END:VEVENT
END:VCALENDAR
