BEGIN:VCALENDAR
VERSION:2.0
CALSCALE:GREGORIAN
PRODID:-//Diputació de Barcelona//DibaCMS//EN
BEGIN:VEVENT
UID:13405
DTSTAMP:20260422T225604
DTSTART:20240120T000000
DTEND:20240121T000000
SUMMARY:Room Escape "La desaparició del senyor Mattia"
LOCATION:
METHOD:PUBLISH
X-WR-CALNAME:ajuntament@llicamunt.cat
X-WR-TIMEZONE:Europe/Madrid
DESCRIPTION:
URI:https://www.llicamunt.cat/actualitat/agenda/room-escape-la-desaparicio-del-senyor-mattia.html
CLASS:PUBLIC
END:VEVENT
END:VCALENDAR
