BEGIN:VCALENDAR
VERSION:2.0
CALSCALE:GREGORIAN
PRODID:-//Diputació de Barcelona//DibaCMS//EN
BEGIN:VEVENT
UID:13406
DTSTAMP:20260423T070800
DTSTART:20240109T000000
DTEND:20240131T000000
SUMMARY:Exposició "Música i dansa"
LOCATION:c. de Castelló de la Plana, 11 08186   Lliçà d'Amunt
METHOD:PUBLISH
X-WR-CALNAME:ajuntament@llicamunt.cat
X-WR-TIMEZONE:Europe/Madrid
DESCRIPTION:
URI:https://www.llicamunt.cat/actualitat/agenda/exposicio-musica-i-dansa.html
CLASS:PUBLIC
END:VEVENT
END:VCALENDAR
