BEGIN:VCALENDAR
VERSION:2.0
CALSCALE:GREGORIAN
PRODID:-//Diputació de Barcelona//DibaCMS//EN
BEGIN:VEVENT
UID:13447
DTSTAMP:20260423T042215
DTSTART:20240209T173000
DTEND:20240209T193000
SUMMARY:Tarda de Carnaval
LOCATION:C/Castelló de la Plana, 11 08186   Lliçà d'Amunt
METHOD:PUBLISH
X-WR-CALNAME:ajuntament@llicamunt.cat
X-WR-TIMEZONE:Europe/Madrid
DESCRIPTION:
URI:https://www.llicamunt.cat/actualitat/agenda/tarda-de-carnaval.html
CLASS:PUBLIC
END:VEVENT
END:VCALENDAR
