BEGIN:VCALENDAR
VERSION:2.0
CALSCALE:GREGORIAN
PRODID:-//Diputació de Barcelona//DibaCMS//EN
BEGIN:VEVENT
UID:13448
DTSTAMP:20260423T070139
DTSTART:20240213T173000
DTEND:20240213T200000
SUMMARY:Taller creatiu "Teatre d'ombres"
LOCATION:c. de Castelló de la Plana, 11 08186   Lliçà d'Amunt
METHOD:PUBLISH
X-WR-CALNAME:ajuntament@llicamunt.cat
X-WR-TIMEZONE:Europe/Madrid
DESCRIPTION:
URI:https://www.llicamunt.cat/actualitat/agenda/taller-creatiu-teatre-dombres.html
CLASS:PUBLIC
END:VEVENT
END:VCALENDAR
