BEGIN:VCALENDAR
VERSION:2.0
CALSCALE:GREGORIAN
PRODID:-//Diputació de Barcelona//DibaCMS//EN
BEGIN:VEVENT
UID:13452
DTSTAMP:20260423T042114
DTSTART:20240205T000000
DTEND:20240205T000000
SUMMARY:"Muggle" Club de lectura per a infants
LOCATION:c. de Castelló de la Plana, 11 08186   Lliçà d'Amunt
METHOD:PUBLISH
X-WR-CALNAME:ajuntament@llicamunt.cat
X-WR-TIMEZONE:Europe/Madrid
DESCRIPTION:
URI:https://www.llicamunt.cat/actualitat/agenda/muggle-club-de-lectura-per-a-infants.html
CLASS:PUBLIC
END:VEVENT
END:VCALENDAR
