BEGIN:VCALENDAR
VERSION:2.0
CALSCALE:GREGORIAN
PRODID:-//Diputació de Barcelona//DibaCMS//EN
BEGIN:VEVENT
UID:13455
DTSTAMP:20260423T070215
DTSTART:20240222T173000
DTEND:20240222T200000
SUMMARY:Presentació del conte "La pequeña hada Mar y las frutas"
LOCATION:c. de Castelló de la Plana, 11 08186   Lliçà d'Amunt
METHOD:PUBLISH
X-WR-CALNAME:ajuntament@llicamunt.cat
X-WR-TIMEZONE:Europe/Madrid
DESCRIPTION:
URI:https://www.llicamunt.cat/actualitat/agenda/presentacio-del-conte-la-pequena-hada-mar-y-las-frutas.html
CLASS:PUBLIC
END:VEVENT
END:VCALENDAR
