BEGIN:VCALENDAR
VERSION:2.0
CALSCALE:GREGORIAN
PRODID:-//Diputació de Barcelona//DibaCMS//EN
BEGIN:VEVENT
UID:13466
DTSTAMP:20260423T054030
DTSTART:20240216T190000
DTEND:20240216T203000
SUMMARY:Xerrada: Immersos en el canvi climàtic i en els canvis personals: des de la llúdriga i l'ós fins als nostres taurons
LOCATION:c. de l'Aliança, 17 08186 Lliçà d'Amunt
METHOD:PUBLISH
X-WR-CALNAME:ajuntament@llicamunt.cat
X-WR-TIMEZONE:Europe/Madrid
DESCRIPTION:
URI:https://www.llicamunt.cat/actualitat/agenda/xerrada-immersos-en-el-canvi-climatic-i-en-els-canvis-personals-des-de-la-lludriga-i-los-fins-als-nostres-taurons.html
CLASS:PUBLIC
END:VEVENT
END:VCALENDAR
