BEGIN:VCALENDAR
VERSION:2.0
CALSCALE:GREGORIAN
PRODID:-//Diputació de Barcelona//DibaCMS//EN
BEGIN:VEVENT
UID:13470
DTSTAMP:20260423T070516
DTSTART:20240218T120000
DTEND:20240218T133000
SUMMARY:Espectacles familiars "El secret de les nimfes"
LOCATION:c. de l'Aliança, 17 08186 Lliçà d'Amunt
METHOD:PUBLISH
X-WR-CALNAME:ajuntament@llicamunt.cat
X-WR-TIMEZONE:Europe/Madrid
DESCRIPTION:
URI:https://www.llicamunt.cat/actualitat/agenda/espectacles-familiars-el-secret-de-les-nimfes.html
CLASS:PUBLIC
END:VEVENT
END:VCALENDAR
