BEGIN:VCALENDAR
VERSION:2.0
CALSCALE:GREGORIAN
PRODID:-//Diputació de Barcelona//DibaCMS//EN
BEGIN:VEVENT
UID:13471
DTSTAMP:20260423T084147
DTSTART:20240224T220000
DTEND:20240225T010000
SUMMARY:Lliksound amb Savage Sound Syndicate i Sleep bad
LOCATION:c. de l'Aliança, 17 08186 Lliçà d'Amunt
METHOD:PUBLISH
X-WR-CALNAME:ajuntament@llicamunt.cat
X-WR-TIMEZONE:Europe/Madrid
DESCRIPTION:
URI:https://www.llicamunt.cat/actualitat/agenda/lliksound-amb-savage-sound-syndicate-i-sleep-bad.html
CLASS:PUBLIC
END:VEVENT
END:VCALENDAR
