BEGIN:VCALENDAR
VERSION:2.0
CALSCALE:GREGORIAN
PRODID:-//Diputació de Barcelona//DibaCMS//EN
BEGIN:VEVENT
UID:13478
DTSTAMP:20260423T042248
DTSTART:20240222T170000
DTEND:20240222T190000
SUMMARY:Xerrada sobre la llei de dependència
LOCATION:Carretera de Palaudàries, 88 08186 Lliçà d'Amunt
METHOD:PUBLISH
X-WR-CALNAME:ajuntament@llicamunt.cat
X-WR-TIMEZONE:Europe/Madrid
DESCRIPTION:
URI:https://www.llicamunt.cat/actualitat/agenda/xerrada-sobre-la-llei-de-dependencia.html
CLASS:PUBLIC
END:VEVENT
END:VCALENDAR
