BEGIN:VCALENDAR
VERSION:2.0
CALSCALE:GREGORIAN
PRODID:-//Diputació de Barcelona//DibaCMS//EN
BEGIN:VEVENT
UID:13480
DTSTAMP:20260423T100609
DTSTART:20240229T100000
DTEND:20240229T120000
SUMMARY:Taller SEOVT "Crea el teu Linkedin" 
LOCATION:Plaça de la Vila, s/n, 2a planta 08186 Lliçà de Vall
METHOD:PUBLISH
X-WR-CALNAME:ajuntament@llicamunt.cat
X-WR-TIMEZONE:Europe/Madrid
DESCRIPTION:
URI:https://www.llicamunt.cat/actualitat/agenda/taller-seovt-crea-el-teu-linkedin-.html
CLASS:PUBLIC
END:VEVENT
END:VCALENDAR
