BEGIN:VCALENDAR
VERSION:2.0
CALSCALE:GREGORIAN
PRODID:-//Diputació de Barcelona//DibaCMS//EN
BEGIN:VEVENT
UID:13481
DTSTAMP:20260423T113707
DTSTART:20240323T210000
DTEND:20240323T235900
SUMMARY:Sortim a escena "No me toques el cuento"
LOCATION:Teatre Poliorama 
METHOD:PUBLISH
X-WR-CALNAME:ajuntament@llicamunt.cat
X-WR-TIMEZONE:Europe/Madrid
DESCRIPTION:
URI:https://www.llicamunt.cat/actualitat/agenda/sortim-a-escena-no-me-toques-el-cuento.html
CLASS:PUBLIC
END:VEVENT
END:VCALENDAR
