BEGIN:VCALENDAR
VERSION:2.0
CALSCALE:GREGORIAN
PRODID:-//Diputació de Barcelona//DibaCMS//EN
BEGIN:VEVENT
UID:13489
DTSTAMP:20260423T100549
DTSTART:20240309T090000
DTEND:20240309T130000
SUMMARY:1ª prova Lliga Catalana PilonRacer F3D-F3E
LOCATION:Aeroclub R/C Vall del Tenes (Ca l'Amell Gros s/n ) 
METHOD:PUBLISH
X-WR-CALNAME:ajuntament@llicamunt.cat
X-WR-TIMEZONE:Europe/Madrid
DESCRIPTION:
URI:https://www.llicamunt.cat/actualitat/agenda/1a-prova-lliga-catalana-pilonracer-f3d-f3e.html
CLASS:PUBLIC
END:VEVENT
END:VCALENDAR
