BEGIN:VCALENDAR
VERSION:2.0
CALSCALE:GREGORIAN
PRODID:-//Diputació de Barcelona//DibaCMS//EN
BEGIN:VEVENT
UID:13503
DTSTAMP:20260423T095926
DTSTART:20240307T093000
DTEND:20240307T121000
SUMMARY:SEOVT - Les competències i les dones
LOCATION:Plaça de la Vila, s/n, 2a planta 08186 Lliçà de Vall
METHOD:PUBLISH
X-WR-CALNAME:ajuntament@llicamunt.cat
X-WR-TIMEZONE:Europe/Madrid
DESCRIPTION:
URI:https://www.llicamunt.cat/actualitat/agenda/seovt-les-competencies-i-les-dones.html
CLASS:PUBLIC
END:VEVENT
END:VCALENDAR
