BEGIN:VCALENDAR
VERSION:2.0
CALSCALE:GREGORIAN
PRODID:-//Diputació de Barcelona//DibaCMS//EN
BEGIN:VEVENT
UID:13507
DTSTAMP:20260423T100200
DTSTART:20240308T220000
DTEND:20240308T235900
SUMMARY:Les Jams de l'Ateneu 
LOCATION:c. de l'Aliança, 17 08186 Lliçà d'Amunt
METHOD:PUBLISH
X-WR-CALNAME:ajuntament@llicamunt.cat
X-WR-TIMEZONE:Europe/Madrid
DESCRIPTION:
URI:https://www.llicamunt.cat/actualitat/agenda/les-jams-de-lateneu-.html
CLASS:PUBLIC
END:VEVENT
END:VCALENDAR
