BEGIN:VCALENDAR
VERSION:2.0
CALSCALE:GREGORIAN
PRODID:-//Diputació de Barcelona//DibaCMS//EN
BEGIN:VEVENT
UID:13512
DTSTAMP:20260423T110246
DTSTART:20240318T173000
DTEND:20240318T190000
SUMMARY:Xerrada educativa "I després de l'ESO, què?"
LOCATION:En línia 
METHOD:PUBLISH
X-WR-CALNAME:ajuntament@llicamunt.cat
X-WR-TIMEZONE:Europe/Madrid
DESCRIPTION:
URI:https://www.llicamunt.cat/actualitat/agenda/13512-xerrada-educativa-i-despres-de-leso-que.html
CLASS:PUBLIC
END:VEVENT
END:VCALENDAR
