BEGIN:VCALENDAR
VERSION:2.0
CALSCALE:GREGORIAN
PRODID:-//Diputació de Barcelona//DibaCMS//EN
BEGIN:VEVENT
UID:13514
DTSTAMP:20260423T082804
DTSTART:20240316T220000
DTEND:20240316T235900
SUMMARY:Teatre  "Ai, cony!"
LOCATION:c. de l'Aliança, 17 08186 Lliçà d'Amunt
METHOD:PUBLISH
X-WR-CALNAME:ajuntament@llicamunt.cat
X-WR-TIMEZONE:Europe/Madrid
DESCRIPTION:
URI:https://www.llicamunt.cat/actualitat/agenda/teatre-ai-cony.html
CLASS:PUBLIC
END:VEVENT
END:VCALENDAR
