BEGIN:VCALENDAR
VERSION:2.0
CALSCALE:GREGORIAN
PRODID:-//Diputació de Barcelona//DibaCMS//EN
BEGIN:VEVENT
UID:13515
DTSTAMP:20260423T054300
DTSTART:20240315T190000
DTEND:20240315T203000
SUMMARY:Taula rodona: Pagesia al Vallès en temps de canvi climàtic
LOCATION:c. de l'Aliança, 17 08186 Lliçà d'Amunt
METHOD:PUBLISH
X-WR-CALNAME:ajuntament@llicamunt.cat
X-WR-TIMEZONE:Europe/Madrid
DESCRIPTION:
URI:https://www.llicamunt.cat/actualitat/agenda/taula-rodona-pagesia-al-valles-en-temps-de-canvi-climatic.html
CLASS:PUBLIC
END:VEVENT
END:VCALENDAR
