BEGIN:VCALENDAR
VERSION:2.0
CALSCALE:GREGORIAN
PRODID:-//Diputació de Barcelona//DibaCMS//EN
BEGIN:VEVENT
UID:13516
DTSTAMP:20260423T100645
DTSTART:20240317T120000
DTEND:20240317T133000
SUMMARY:Espectacles familiars "Womagis, el mag de les paraules"
LOCATION:c. de l'Aliança, 17 08186 Lliçà d'Amunt
METHOD:PUBLISH
X-WR-CALNAME:ajuntament@llicamunt.cat
X-WR-TIMEZONE:Europe/Madrid
DESCRIPTION:
URI:https://www.llicamunt.cat/actualitat/agenda/espectacles-familiars-womagis-el-mag-de-les-paraules.html
CLASS:PUBLIC
END:VEVENT
END:VCALENDAR
