BEGIN:VCALENDAR
VERSION:2.0
CALSCALE:GREGORIAN
PRODID:-//Diputació de Barcelona//DibaCMS//EN
BEGIN:VEVENT
UID:13524
DTSTAMP:20260423T070821
DTSTART:20240321T190000
DTEND:20240321T213000
SUMMARY:Sessió ordinària del Ple Municipal  
LOCATION:c. de Folch i Torres, 102 08186   Lliçà d'Amunt
METHOD:PUBLISH
X-WR-CALNAME:ajuntament@llicamunt.cat
X-WR-TIMEZONE:Europe/Madrid
DESCRIPTION:
URI:https://www.llicamunt.cat/actualitat/agenda/13524-sessio-ordinaria-del-ple-municipal-.html
CLASS:PUBLIC
END:VEVENT
END:VCALENDAR
