BEGIN:VCALENDAR
VERSION:2.0
CALSCALE:GREGORIAN
PRODID:-//Diputació de Barcelona//DibaCMS//EN
BEGIN:VEVENT
UID:13525
DTSTAMP:20260423T042259
DTSTART:20240321T184500
DTEND:20240321T190000
SUMMARY:Sessió extraordinària pública de la Junta de Govern Local 
LOCATION:c. de Folch i Torres, 102 08186   Lliçà d'Amunt
METHOD:PUBLISH
X-WR-CALNAME:ajuntament@llicamunt.cat
X-WR-TIMEZONE:Europe/Madrid
DESCRIPTION:
URI:https://www.llicamunt.cat/actualitat/agenda/sessio-extraordinaria-publica-de-la-junta-de-govern-local-.html
CLASS:PUBLIC
END:VEVENT
END:VCALENDAR
