BEGIN:VCALENDAR
VERSION:2.0
CALSCALE:GREGORIAN
PRODID:-//Diputació de Barcelona//DibaCMS//EN
BEGIN:VEVENT
UID:13551
DTSTAMP:20260423T093946
DTSTART:20240419T091500
DTEND:20240419T150000
SUMMARY:Sortida al programa "Col·lapse" de TV3 
LOCATION:Sortida des de l'INS Lliçà (av. dels Països Catalans, 26) 
METHOD:PUBLISH
X-WR-CALNAME:ajuntament@llicamunt.cat
X-WR-TIMEZONE:Europe/Madrid
DESCRIPTION:
URI:https://www.llicamunt.cat/actualitat/agenda/sortida-al-programa-collapse-de-tv3-.html
CLASS:PUBLIC
END:VEVENT
END:VCALENDAR
