BEGIN:VCALENDAR
VERSION:2.0
CALSCALE:GREGORIAN
PRODID:-//Diputació de Barcelona//DibaCMS//EN
BEGIN:VEVENT
UID:13564
DTSTAMP:20260423T053902
DTSTART:20240417T173000
DTEND:20240417T193000
SUMMARY:Xerrada educativa "Relacions positives amb els fills i filles"
LOCATION:En línia amb inscripció prèvia 
METHOD:PUBLISH
X-WR-CALNAME:ajuntament@llicamunt.cat
X-WR-TIMEZONE:Europe/Madrid
DESCRIPTION:
URI:https://www.llicamunt.cat/actualitat/agenda/xerrada-educativa-relacions-positives-amb-els-fills-i-filles.html
CLASS:PUBLIC
END:VEVENT
END:VCALENDAR
