BEGIN:VCALENDAR
VERSION:2.0
CALSCALE:GREGORIAN
PRODID:-//Diputació de Barcelona//DibaCMS//EN
BEGIN:VEVENT
UID:13566
DTSTAMP:20260423T145307
DTSTART:20240506T000000
DTEND:20240506T000000
SUMMARY:Classes d'hipopressius al Centre Cívic Ca l'Artigues
LOCATION:Carrer de la Ribera d'Ebre, 81, planta baja 08186   Lliçà d'Amunt
METHOD:PUBLISH
X-WR-CALNAME:ajuntament@llicamunt.cat
X-WR-TIMEZONE:Europe/Madrid
DESCRIPTION:
URI:https://www.llicamunt.cat/actualitat/agenda/classes-dhipopressius-al-centre-civic-ca-lartigues.html
CLASS:PUBLIC
END:VEVENT
END:VCALENDAR
