BEGIN:VCALENDAR
VERSION:2.0
CALSCALE:GREGORIAN
PRODID:-//Diputació de Barcelona//DibaCMS//EN
BEGIN:VEVENT
UID:13567
DTSTAMP:20260425T132715
DTSTART:20240401T000000
DTEND:20240406T000000
SUMMARY:Exposició "Pacte per a la moda circular. Teixim un futur més sostenible"
LOCATION:c. de Castelló de la Plana, 11 08186   Lliçà d'Amunt
METHOD:PUBLISH
X-WR-CALNAME:ajuntament@llicamunt.cat
X-WR-TIMEZONE:Europe/Madrid
DESCRIPTION:
URI:https://www.llicamunt.cat/actualitat/agenda/exposicio-pacte-per-a-la-moda-circular-teixim-un-futur-mes-sostenible.html
CLASS:PUBLIC
END:VEVENT
END:VCALENDAR
