BEGIN:VCALENDAR
VERSION:2.0
CALSCALE:GREGORIAN
PRODID:-//Diputació de Barcelona//DibaCMS//EN
BEGIN:VEVENT
UID:13569
DTSTAMP:20260425T150933
DTSTART:20240408T163000
DTEND:20240408T193000
SUMMARY:Taller d'impressió 3D
LOCATION:c. de Castelló de la Plana, 11 08186   Lliçà d'Amunt
METHOD:PUBLISH
X-WR-CALNAME:ajuntament@llicamunt.cat
X-WR-TIMEZONE:Europe/Madrid
DESCRIPTION:
URI:https://www.llicamunt.cat/actualitat/agenda/taller-dimpressio-3d.html
CLASS:PUBLIC
END:VEVENT
END:VCALENDAR
