BEGIN:VCALENDAR
VERSION:2.0
CALSCALE:GREGORIAN
PRODID:-//Diputació de Barcelona//DibaCMS//EN
BEGIN:VEVENT
UID:13573
DTSTAMP:20260423T113730
DTSTART:20240410T180000
DTEND:20240410T193000
SUMMARY:Club de lectura per a adults
LOCATION:c. de Castelló de la Plana, 11 08186   Lliçà d'Amunt
METHOD:PUBLISH
X-WR-CALNAME:ajuntament@llicamunt.cat
X-WR-TIMEZONE:Europe/Madrid
DESCRIPTION:
URI:https://www.llicamunt.cat/actualitat/agenda/13573-club-de-lectura-per-a-adults.html
CLASS:PUBLIC
END:VEVENT
END:VCALENDAR
