BEGIN:VCALENDAR
VERSION:2.0
CALSCALE:GREGORIAN
PRODID:-//Diputació de Barcelona//DibaCMS//EN
BEGIN:VEVENT
UID:13575
DTSTAMP:20260423T100425
DTSTART:20240415T173000
DTEND:20240415T193000
SUMMARY:Tardes a l'Era - "Throw Throw burrito"
LOCATION:C/Castelló de la Plana, 11 08186   Lliçà d'Amunt
METHOD:PUBLISH
X-WR-CALNAME:ajuntament@llicamunt.cat
X-WR-TIMEZONE:Europe/Madrid
DESCRIPTION:
URI:https://www.llicamunt.cat/actualitat/agenda/tardes-a-lera-throw-throw-burrito.html
CLASS:PUBLIC
END:VEVENT
END:VCALENDAR
